BEGIN:VCALENDAR
VERSION:2.0
PRODID:-//L&#039;Organisme de soutien aux aidants naturels de l&#039;Ontario - ECPv6.15.20//NONSGML v1.0//EN
CALSCALE:GREGORIAN
METHOD:PUBLISH
X-ORIGINAL-URL:https://aidantsontario.ca
X-WR-CALDESC:Évènements pour L&#039;Organisme de soutien aux aidants naturels de l&#039;Ontario
REFRESH-INTERVAL;VALUE=DURATION:PT1H
X-Robots-Tag:noindex
X-PUBLISHED-TTL:PT1H
BEGIN:VTIMEZONE
TZID:America/Toronto
BEGIN:DAYLIGHT
TZOFFSETFROM:-0500
TZOFFSETTO:-0400
TZNAME:EDT
DTSTART:20220313T070000
END:DAYLIGHT
BEGIN:STANDARD
TZOFFSETFROM:-0400
TZOFFSETTO:-0500
TZNAME:EST
DTSTART:20221106T060000
END:STANDARD
BEGIN:DAYLIGHT
TZOFFSETFROM:-0500
TZOFFSETTO:-0400
TZNAME:EDT
DTSTART:20230312T070000
END:DAYLIGHT
BEGIN:STANDARD
TZOFFSETFROM:-0400
TZOFFSETTO:-0500
TZNAME:EST
DTSTART:20231105T060000
END:STANDARD
BEGIN:DAYLIGHT
TZOFFSETFROM:-0500
TZOFFSETTO:-0400
TZNAME:EDT
DTSTART:20240310T070000
END:DAYLIGHT
BEGIN:STANDARD
TZOFFSETFROM:-0400
TZOFFSETTO:-0500
TZNAME:EST
DTSTART:20241103T060000
END:STANDARD
END:VTIMEZONE
BEGIN:VEVENT
DTSTART;TZID=America/Toronto:20231026T180000
DTEND;TZID=America/Toronto:20231026T203000
DTSTAMP:20260423T190938
CREATED:20230828T220618Z
LAST-MODIFIED:20230828T220618Z
UID:10001522-1698343200-1698352200@aidantsontario.ca
SUMMARY:FORMATIONPRATIQUE POURLES AIDANTS (ATELIER VIRTUEL DE 5 SEMAINES À OTTAWA)
DESCRIPTION:CETTE FORMATION PRATIQUE RENDRA VOTRE EXPÉRIENCE D’AIDANT PLUS SÉCURITAIRE ET MOINS STRESSANTE POUR VOUS ET POUR LA PERSONNEQUE VOUS AIDEZ \nCette formation est offerte aux proches aidants non rémunérés quis’occupent d’une personne atteinte d’une maladie chronique\nModule 1: Votre rôle d’aidant (navigation\, planification préalable des soins)\nModule 2: Levages et transferts (mécaniques corporelles\, techniques de levage)\nModule 3: Les soins d’hygiène personnelle (l’hygiène personnelle\, la deuil\, la dignité\, etc.)\nModule 4: Les soins en phase de fin de vie (quels sont les signes de fin de vie?)\nModule 5: Communication et soins de soi-même \nPlaces limitées\, inscrivez-vous maintenant https://www.surveymonkey.com/r/FallCaregiver2023
URL:https://aidantsontario.ca/event/formationpratique-pourles-aidants-atelier-virtuel-de-5-semaines-a-ottawa/2023-10-26/
LOCATION:Centre d’accueil Champlain\, 275 Perrier Ave\, Ottawa\, ON\, K1L 5C6
ATTACH;FMTTYPE=image/jpeg:https://aidantsontario.ca/wp-content/uploads/2024/03/Screenshot-2023-08-28-130312-2.jpg
END:VEVENT
BEGIN:VEVENT
DTSTART;TZID=America/Toronto:20231019T180000
DTEND;TZID=America/Toronto:20231019T203000
DTSTAMP:20260423T190938
CREATED:20230828T220618Z
LAST-MODIFIED:20230828T220618Z
UID:10001521-1697738400-1697747400@aidantsontario.ca
SUMMARY:FORMATIONPRATIQUE POURLES AIDANTS (ATELIER VIRTUEL DE 5 SEMAINES À OTTAWA)
DESCRIPTION:CETTE FORMATION PRATIQUE RENDRA VOTRE EXPÉRIENCE D’AIDANT PLUS SÉCURITAIRE ET MOINS STRESSANTE POUR VOUS ET POUR LA PERSONNEQUE VOUS AIDEZ \nCette formation est offerte aux proches aidants non rémunérés quis’occupent d’une personne atteinte d’une maladie chronique\nModule 1: Votre rôle d’aidant (navigation\, planification préalable des soins)\nModule 2: Levages et transferts (mécaniques corporelles\, techniques de levage)\nModule 3: Les soins d’hygiène personnelle (l’hygiène personnelle\, la deuil\, la dignité\, etc.)\nModule 4: Les soins en phase de fin de vie (quels sont les signes de fin de vie?)\nModule 5: Communication et soins de soi-même \nPlaces limitées\, inscrivez-vous maintenant https://www.surveymonkey.com/r/FallCaregiver2023
URL:https://aidantsontario.ca/event/formationpratique-pourles-aidants-atelier-virtuel-de-5-semaines-a-ottawa/2023-10-19/
LOCATION:Centre d’accueil Champlain\, 275 Perrier Ave\, Ottawa\, ON\, K1L 5C6
ATTACH;FMTTYPE=image/jpeg:https://aidantsontario.ca/wp-content/uploads/2024/03/Screenshot-2023-08-28-130312-2.jpg
END:VEVENT
BEGIN:VEVENT
DTSTART;TZID=America/Toronto:20231012T180000
DTEND;TZID=America/Toronto:20231012T203000
DTSTAMP:20260423T190938
CREATED:20230828T220617Z
LAST-MODIFIED:20230828T220617Z
UID:10001520-1697133600-1697142600@aidantsontario.ca
SUMMARY:FORMATIONPRATIQUE POURLES AIDANTS (ATELIER VIRTUEL DE 5 SEMAINES À OTTAWA)
DESCRIPTION:CETTE FORMATION PRATIQUE RENDRA VOTRE EXPÉRIENCE D’AIDANT PLUS SÉCURITAIRE ET MOINS STRESSANTE POUR VOUS ET POUR LA PERSONNEQUE VOUS AIDEZ \nCette formation est offerte aux proches aidants non rémunérés quis’occupent d’une personne atteinte d’une maladie chronique\nModule 1: Votre rôle d’aidant (navigation\, planification préalable des soins)\nModule 2: Levages et transferts (mécaniques corporelles\, techniques de levage)\nModule 3: Les soins d’hygiène personnelle (l’hygiène personnelle\, la deuil\, la dignité\, etc.)\nModule 4: Les soins en phase de fin de vie (quels sont les signes de fin de vie?)\nModule 5: Communication et soins de soi-même \nPlaces limitées\, inscrivez-vous maintenant https://www.surveymonkey.com/r/FallCaregiver2023
URL:https://aidantsontario.ca/event/formationpratique-pourles-aidants-atelier-virtuel-de-5-semaines-a-ottawa/2023-10-12/
LOCATION:Centre d’accueil Champlain\, 275 Perrier Ave\, Ottawa\, ON\, K1L 5C6
ATTACH;FMTTYPE=image/jpeg:https://aidantsontario.ca/wp-content/uploads/2024/03/Screenshot-2023-08-28-130312-2.jpg
END:VEVENT
BEGIN:VEVENT
DTSTART;TZID=America/Toronto:20231005T180000
DTEND;TZID=America/Toronto:20231005T203000
DTSTAMP:20260423T190938
CREATED:20230828T220616Z
LAST-MODIFIED:20230828T220616Z
UID:10001519-1696528800-1696537800@aidantsontario.ca
SUMMARY:FORMATIONPRATIQUE POURLES AIDANTS (ATELIER VIRTUEL DE 5 SEMAINES À OTTAWA)
DESCRIPTION:CETTE FORMATION PRATIQUE RENDRA VOTRE EXPÉRIENCE D’AIDANT PLUS SÉCURITAIRE ET MOINS STRESSANTE POUR VOUS ET POUR LA PERSONNEQUE VOUS AIDEZ \nCette formation est offerte aux proches aidants non rémunérés quis’occupent d’une personne atteinte d’une maladie chronique\nModule 1: Votre rôle d’aidant (navigation\, planification préalable des soins)\nModule 2: Levages et transferts (mécaniques corporelles\, techniques de levage)\nModule 3: Les soins d’hygiène personnelle (l’hygiène personnelle\, la deuil\, la dignité\, etc.)\nModule 4: Les soins en phase de fin de vie (quels sont les signes de fin de vie?)\nModule 5: Communication et soins de soi-même \nPlaces limitées\, inscrivez-vous maintenant https://www.surveymonkey.com/r/FallCaregiver2023
URL:https://aidantsontario.ca/event/formationpratique-pourles-aidants-atelier-virtuel-de-5-semaines-a-ottawa/2023-10-05/
LOCATION:Centre d’accueil Champlain\, 275 Perrier Ave\, Ottawa\, ON\, K1L 5C6
ATTACH;FMTTYPE=image/jpeg:https://aidantsontario.ca/wp-content/uploads/2024/03/Screenshot-2023-08-28-130312-2.jpg
END:VEVENT
BEGIN:VEVENT
DTSTART;TZID=America/Toronto:20230928T180000
DTEND;TZID=America/Toronto:20230928T203000
DTSTAMP:20260423T190938
CREATED:20230828T220614Z
LAST-MODIFIED:20230828T220614Z
UID:10001518-1695924000-1695933000@aidantsontario.ca
SUMMARY:FORMATIONPRATIQUE POURLES AIDANTS (ATELIER VIRTUEL DE 5 SEMAINES À OTTAWA)
DESCRIPTION:CETTE FORMATION PRATIQUE RENDRA VOTRE EXPÉRIENCE D’AIDANT PLUS SÉCURITAIRE ET MOINS STRESSANTE POUR VOUS ET POUR LA PERSONNEQUE VOUS AIDEZ \nCette formation est offerte aux proches aidants non rémunérés quis’occupent d’une personne atteinte d’une maladie chronique\nModule 1: Votre rôle d’aidant (navigation\, planification préalable des soins)\nModule 2: Levages et transferts (mécaniques corporelles\, techniques de levage)\nModule 3: Les soins d’hygiène personnelle (l’hygiène personnelle\, la deuil\, la dignité\, etc.)\nModule 4: Les soins en phase de fin de vie (quels sont les signes de fin de vie?)\nModule 5: Communication et soins de soi-même \nPlaces limitées\, inscrivez-vous maintenant https://www.surveymonkey.com/r/FallCaregiver2023
URL:https://aidantsontario.ca/event/formationpratique-pourles-aidants-atelier-virtuel-de-5-semaines-a-ottawa/2023-09-28/
LOCATION:Centre d’accueil Champlain\, 275 Perrier Ave\, Ottawa\, ON\, K1L 5C6
ATTACH;FMTTYPE=image/jpeg:https://aidantsontario.ca/wp-content/uploads/2024/03/Screenshot-2023-08-28-130312-2.jpg
END:VEVENT
END:VCALENDAR