BEGIN:VCALENDAR
VERSION:2.0
PRODID:-//L&#039;Organisme de soutien aux aidants naturels de l&#039;Ontario - ECPv6.15.20//NONSGML v1.0//EN
CALSCALE:GREGORIAN
METHOD:PUBLISH
X-ORIGINAL-URL:https://aidantsontario.ca
X-WR-CALDESC:Évènements pour L&#039;Organisme de soutien aux aidants naturels de l&#039;Ontario
REFRESH-INTERVAL;VALUE=DURATION:PT1H
X-Robots-Tag:noindex
X-PUBLISHED-TTL:PT1H
BEGIN:VTIMEZONE
TZID:America/Toronto
BEGIN:DAYLIGHT
TZOFFSETFROM:-0500
TZOFFSETTO:-0400
TZNAME:EDT
DTSTART:20220313T070000
END:DAYLIGHT
BEGIN:STANDARD
TZOFFSETFROM:-0400
TZOFFSETTO:-0500
TZNAME:EST
DTSTART:20221106T060000
END:STANDARD
BEGIN:DAYLIGHT
TZOFFSETFROM:-0500
TZOFFSETTO:-0400
TZNAME:EDT
DTSTART:20230312T070000
END:DAYLIGHT
BEGIN:STANDARD
TZOFFSETFROM:-0400
TZOFFSETTO:-0500
TZNAME:EST
DTSTART:20231105T060000
END:STANDARD
BEGIN:DAYLIGHT
TZOFFSETFROM:-0500
TZOFFSETTO:-0400
TZNAME:EDT
DTSTART:20240310T070000
END:DAYLIGHT
BEGIN:STANDARD
TZOFFSETFROM:-0400
TZOFFSETTO:-0500
TZNAME:EST
DTSTART:20241103T060000
END:STANDARD
END:VTIMEZONE
BEGIN:VEVENT
DTSTART;TZID=America/Toronto:20230509T093000
DTEND;TZID=America/Toronto:20230509T120000
DTSTAMP:20260423T174543
CREATED:20230426T021326Z
LAST-MODIFIED:20230426T021326Z
UID:10001291-1683624600-1683633600@aidantsontario.ca
SUMMARY:Formation pratique en soins palliatifs pour les proches aidants
DESCRIPTION:Cette formation vous aidera à accroître vos compétences et vos connaissances en tant que proches aidants. \nAtelier 1 – Mardi 2 mai\nRôle de proche aidant\nLe système de santé ontarien\nPlanification préalable des soins \nAtelier 2 – Mardi 9 mai\nAnatomie 101\nLevages et transferts\n*Présentateur : Physiothérapeute \nAtelier 3 – Mardi 16 mai\nHygiène personnelle\nDouleur du deuil\nL’ hygiène domestique\n*Présentateur : Infirmière \nAtelier 4 – Mardi 23 maiSoins en fin de vie\nGestion des médicaments\n*Présentateur : Infirmière \nAtelier 5 – Mardi 30 mai  \nCommunication\nSoin de soi-même \nInscrivez-vous\, places limitées\njparent@mri.ca\n613-241-1266 poste. 439 \n 
URL:https://aidantsontario.ca/event/formation-pratique-en-soins-palliatifs-pour-les-proches-aidants/2023-05-09/
LOCATION:Virtuel\, Ontario\, Canada
ATTACH;FMTTYPE=image/jpeg:https://aidantsontario.ca/wp-content/uploads/2024/03/Formation-pratique-en-soins-palliatigs-pour-les-proches-aidants-1-2.jpg
ORGANIZER;CN="Montfort Renaissance - Centre de Services Gigues":MAILTO:info@mri.ca
END:VEVENT
BEGIN:VEVENT
DTSTART;TZID=America/Toronto:20230502T190000
DTEND;TZID=America/Toronto:20230502T200000
DTSTAMP:20260423T174543
CREATED:20230323T003052Z
LAST-MODIFIED:20230323T003052Z
UID:10001288-1683054000-1683057600@aidantsontario.ca
SUMMARY:Webinaire sur le cancer de la vessie - Le stress et l'épuisement chez les personnes aidantes naturelles
DESCRIPTION:Bien qu’il y ait de nombreux bénéfices à s’occuper d’un proche atteint d’un cancer de la vessie\, la majorité des aidants se sentent stressés ou épuisés. Au cours de cet atelier\, les proches aidants apprendront des stratégies pour identifier ces sentiments et des ressources pour les soutenir dans leur rôle.
URL:https://aidantsontario.ca/event/webinaire-sur-le-cancer-de-la-vessie-le-stress-et-lepuisement-chez-les-personnes-aidantes-naturelles/
LOCATION:Virtuel\, Ontario\, Canada
ATTACH;FMTTYPE=image/png:https://aidantsontario.ca/wp-content/uploads/2024/03/Bladder-Cancer-Canada-Stress-et-epuisement-1-2.png
END:VEVENT
BEGIN:VEVENT
DTSTART;TZID=America/Toronto:20230502T093000
DTEND;TZID=America/Toronto:20230502T120000
DTSTAMP:20260423T174543
CREATED:20230426T021326Z
LAST-MODIFIED:20230426T021326Z
UID:10001290-1683019800-1683028800@aidantsontario.ca
SUMMARY:Formation pratique en soins palliatifs pour les proches aidants
DESCRIPTION:Cette formation vous aidera à accroître vos compétences et vos connaissances en tant que proches aidants. \nAtelier 1 – Mardi 2 mai\nRôle de proche aidant\nLe système de santé ontarien\nPlanification préalable des soins \nAtelier 2 – Mardi 9 mai\nAnatomie 101\nLevages et transferts\n*Présentateur : Physiothérapeute \nAtelier 3 – Mardi 16 mai\nHygiène personnelle\nDouleur du deuil\nL’ hygiène domestique\n*Présentateur : Infirmière \nAtelier 4 – Mardi 23 maiSoins en fin de vie\nGestion des médicaments\n*Présentateur : Infirmière \nAtelier 5 – Mardi 30 mai  \nCommunication\nSoin de soi-même \nInscrivez-vous\, places limitées\njparent@mri.ca\n613-241-1266 poste. 439 \n 
URL:https://aidantsontario.ca/event/formation-pratique-en-soins-palliatifs-pour-les-proches-aidants/2023-05-02/
LOCATION:Virtuel\, Ontario\, Canada
ATTACH;FMTTYPE=image/jpeg:https://aidantsontario.ca/wp-content/uploads/2024/03/Formation-pratique-en-soins-palliatigs-pour-les-proches-aidants-1-2.jpg
ORGANIZER;CN="Montfort Renaissance - Centre de Services Gigues":MAILTO:info@mri.ca
END:VEVENT
BEGIN:VEVENT
DTSTART;TZID=America/Toronto:20230404T140000
DTEND;TZID=America/Toronto:20230404T153000
DTSTAMP:20260423T174543
CREATED:20230216T193019Z
LAST-MODIFIED:20230216T193019Z
UID:10001285-1680616800-1680622200@aidantsontario.ca
SUMMARY:Conférence - Grandir ou souffrir à force d'aider
DESCRIPTION:DESCRIPTION\nDans cette conférence\, les thèmes suivants seront abordés : \n\nLes facteurs qui font souffrir les proches aidants;\nLes impacts de ces facteurs sur la santé physique et mentale des proches aidants;\nUn modèle de développement psychologique (notamment l’estime de soi);\nSept stratégies pour demeurer longtemps un proche aidant efficace.
URL:https://aidantsontario.ca/event/conference-grandir-ou-souffrir-a-force-daider/
LOCATION:Virtuel\, Ontario\, Canada
ATTACH;FMTTYPE=image/jpeg:https://aidantsontario.ca/wp-content/uploads/2024/03/Conference-Grandir-ou-souffrir-a-force-daider-1-2.jpg
END:VEVENT
BEGIN:VEVENT
DTSTART;TZID=America/Toronto:20230313T180000
DTEND;TZID=America/Toronto:20230313T200000
DTSTAMP:20260423T174543
CREATED:20230127T212900Z
LAST-MODIFIED:20230127T212900Z
UID:10001282-1678730400-1678737600@aidantsontario.ca
SUMMARY:FORMATION PRATIQUE POUR LES AIDANTS
DESCRIPTION:ATELIER VIRTUEL DE 5 SEMAINES\nCETTE FORMATION PRATIQUE RENDRA VOTRE EXPÉRIENCE D’AIDANT PLUS SÉCURITAIRE ET MOINSSTRESSANTE POUR VOUS ET POUR LA PERSONNEQUE VOUS AIDEZ \nModule 1: Votre rôle d’aidant\n(navigation\, planification préalable des soins) \nModule 2: Levages et transferts\n(mécaniques corporelles\, techniques de levage) \nModule 3: Les soins d’hygiène personnelle\n(l’hygiène personnelle\, la deuil\, la dignité\, etc.) \nModule 4: Les soins en phase de fin de vie\n(quels sont les signes de fin de vie?) \nModule 5: Communication et soins de soi-même \n*Cette formation est offerte aux proches aidants non rémunérés qui s’occupent d’une personne atteinte d’une maladie chronique. \n  \nSi vous désirez participer\, veuillez remplir ce formulaire:
URL:https://aidantsontario.ca/event/formation-pratique-pour-les-aidants/2023-03-13/
LOCATION:Virtuel\, Ontario\, Canada
ATTACH;FMTTYPE=image/jpeg:https://aidantsontario.ca/wp-content/uploads/2024/03/Screenshot-2023-01-27-110705-2.jpg
ORGANIZER;CN="Programme Soins Palliatifs Champlain":MAILTO:education@champlainpalliative.ca
END:VEVENT
BEGIN:VEVENT
DTSTART;TZID=America/Toronto:20230310T180000
DTEND;TZID=America/Toronto:20230310T200000
DTSTAMP:20260423T174543
CREATED:20230127T212900Z
LAST-MODIFIED:20230127T212900Z
UID:10001281-1678471200-1678478400@aidantsontario.ca
SUMMARY:FORMATION PRATIQUE POUR LES AIDANTS
DESCRIPTION:ATELIER VIRTUEL DE 5 SEMAINES\nCETTE FORMATION PRATIQUE RENDRA VOTRE EXPÉRIENCE D’AIDANT PLUS SÉCURITAIRE ET MOINSSTRESSANTE POUR VOUS ET POUR LA PERSONNEQUE VOUS AIDEZ \nModule 1: Votre rôle d’aidant\n(navigation\, planification préalable des soins) \nModule 2: Levages et transferts\n(mécaniques corporelles\, techniques de levage) \nModule 3: Les soins d’hygiène personnelle\n(l’hygiène personnelle\, la deuil\, la dignité\, etc.) \nModule 4: Les soins en phase de fin de vie\n(quels sont les signes de fin de vie?) \nModule 5: Communication et soins de soi-même \n*Cette formation est offerte aux proches aidants non rémunérés qui s’occupent d’une personne atteinte d’une maladie chronique. \n  \nSi vous désirez participer\, veuillez remplir ce formulaire:
URL:https://aidantsontario.ca/event/formation-pratique-pour-les-aidants/2023-03-10/
LOCATION:Virtuel\, Ontario\, Canada
ATTACH;FMTTYPE=image/jpeg:https://aidantsontario.ca/wp-content/uploads/2024/03/Screenshot-2023-01-27-110705-2.jpg
ORGANIZER;CN="Programme Soins Palliatifs Champlain":MAILTO:education@champlainpalliative.ca
END:VEVENT
BEGIN:VEVENT
DTSTART;TZID=America/Toronto:20230306T180000
DTEND;TZID=America/Toronto:20230306T200000
DTSTAMP:20260423T174543
CREATED:20230127T212900Z
LAST-MODIFIED:20230127T212900Z
UID:10001280-1678125600-1678132800@aidantsontario.ca
SUMMARY:FORMATION PRATIQUE POUR LES AIDANTS
DESCRIPTION:ATELIER VIRTUEL DE 5 SEMAINES\nCETTE FORMATION PRATIQUE RENDRA VOTRE EXPÉRIENCE D’AIDANT PLUS SÉCURITAIRE ET MOINSSTRESSANTE POUR VOUS ET POUR LA PERSONNEQUE VOUS AIDEZ \nModule 1: Votre rôle d’aidant\n(navigation\, planification préalable des soins) \nModule 2: Levages et transferts\n(mécaniques corporelles\, techniques de levage) \nModule 3: Les soins d’hygiène personnelle\n(l’hygiène personnelle\, la deuil\, la dignité\, etc.) \nModule 4: Les soins en phase de fin de vie\n(quels sont les signes de fin de vie?) \nModule 5: Communication et soins de soi-même \n*Cette formation est offerte aux proches aidants non rémunérés qui s’occupent d’une personne atteinte d’une maladie chronique. \n  \nSi vous désirez participer\, veuillez remplir ce formulaire:
URL:https://aidantsontario.ca/event/formation-pratique-pour-les-aidants/2023-03-06/
LOCATION:Virtuel\, Ontario\, Canada
ATTACH;FMTTYPE=image/jpeg:https://aidantsontario.ca/wp-content/uploads/2024/03/Screenshot-2023-01-27-110705-2.jpg
ORGANIZER;CN="Programme Soins Palliatifs Champlain":MAILTO:education@champlainpalliative.ca
END:VEVENT
BEGIN:VEVENT
DTSTART;TZID=America/Toronto:20230303T180000
DTEND;TZID=America/Toronto:20230303T200000
DTSTAMP:20260423T174543
CREATED:20230127T212900Z
LAST-MODIFIED:20230127T212900Z
UID:10001279-1677866400-1677873600@aidantsontario.ca
SUMMARY:FORMATION PRATIQUE POUR LES AIDANTS
DESCRIPTION:ATELIER VIRTUEL DE 5 SEMAINES\nCETTE FORMATION PRATIQUE RENDRA VOTRE EXPÉRIENCE D’AIDANT PLUS SÉCURITAIRE ET MOINSSTRESSANTE POUR VOUS ET POUR LA PERSONNEQUE VOUS AIDEZ \nModule 1: Votre rôle d’aidant\n(navigation\, planification préalable des soins) \nModule 2: Levages et transferts\n(mécaniques corporelles\, techniques de levage) \nModule 3: Les soins d’hygiène personnelle\n(l’hygiène personnelle\, la deuil\, la dignité\, etc.) \nModule 4: Les soins en phase de fin de vie\n(quels sont les signes de fin de vie?) \nModule 5: Communication et soins de soi-même \n*Cette formation est offerte aux proches aidants non rémunérés qui s’occupent d’une personne atteinte d’une maladie chronique. \n  \nSi vous désirez participer\, veuillez remplir ce formulaire:
URL:https://aidantsontario.ca/event/formation-pratique-pour-les-aidants/2023-03-03/
LOCATION:Virtuel\, Ontario\, Canada
ATTACH;FMTTYPE=image/jpeg:https://aidantsontario.ca/wp-content/uploads/2024/03/Screenshot-2023-01-27-110705-2.jpg
ORGANIZER;CN="Programme Soins Palliatifs Champlain":MAILTO:education@champlainpalliative.ca
END:VEVENT
BEGIN:VEVENT
DTSTART;TZID=America/Toronto:20230227T180000
DTEND;TZID=America/Toronto:20230227T200000
DTSTAMP:20260423T174543
CREATED:20230127T212900Z
LAST-MODIFIED:20230127T212900Z
UID:10001278-1677520800-1677528000@aidantsontario.ca
SUMMARY:FORMATION PRATIQUE POUR LES AIDANTS
DESCRIPTION:ATELIER VIRTUEL DE 5 SEMAINES\nCETTE FORMATION PRATIQUE RENDRA VOTRE EXPÉRIENCE D’AIDANT PLUS SÉCURITAIRE ET MOINSSTRESSANTE POUR VOUS ET POUR LA PERSONNEQUE VOUS AIDEZ \nModule 1: Votre rôle d’aidant\n(navigation\, planification préalable des soins) \nModule 2: Levages et transferts\n(mécaniques corporelles\, techniques de levage) \nModule 3: Les soins d’hygiène personnelle\n(l’hygiène personnelle\, la deuil\, la dignité\, etc.) \nModule 4: Les soins en phase de fin de vie\n(quels sont les signes de fin de vie?) \nModule 5: Communication et soins de soi-même \n*Cette formation est offerte aux proches aidants non rémunérés qui s’occupent d’une personne atteinte d’une maladie chronique. \n  \nSi vous désirez participer\, veuillez remplir ce formulaire:
URL:https://aidantsontario.ca/event/formation-pratique-pour-les-aidants/2023-02-27/
LOCATION:Virtuel\, Ontario\, Canada
ATTACH;FMTTYPE=image/jpeg:https://aidantsontario.ca/wp-content/uploads/2024/03/Screenshot-2023-01-27-110705-2.jpg
ORGANIZER;CN="Programme Soins Palliatifs Champlain":MAILTO:education@champlainpalliative.ca
END:VEVENT
BEGIN:VEVENT
DTSTART;TZID=America/Toronto:20230224T180000
DTEND;TZID=America/Toronto:20230224T200000
DTSTAMP:20260423T174543
CREATED:20230127T212900Z
LAST-MODIFIED:20230127T212900Z
UID:10001277-1677261600-1677268800@aidantsontario.ca
SUMMARY:FORMATION PRATIQUE POUR LES AIDANTS
DESCRIPTION:ATELIER VIRTUEL DE 5 SEMAINES\nCETTE FORMATION PRATIQUE RENDRA VOTRE EXPÉRIENCE D’AIDANT PLUS SÉCURITAIRE ET MOINSSTRESSANTE POUR VOUS ET POUR LA PERSONNEQUE VOUS AIDEZ \nModule 1: Votre rôle d’aidant\n(navigation\, planification préalable des soins) \nModule 2: Levages et transferts\n(mécaniques corporelles\, techniques de levage) \nModule 3: Les soins d’hygiène personnelle\n(l’hygiène personnelle\, la deuil\, la dignité\, etc.) \nModule 4: Les soins en phase de fin de vie\n(quels sont les signes de fin de vie?) \nModule 5: Communication et soins de soi-même \n*Cette formation est offerte aux proches aidants non rémunérés qui s’occupent d’une personne atteinte d’une maladie chronique. \n  \nSi vous désirez participer\, veuillez remplir ce formulaire:
URL:https://aidantsontario.ca/event/formation-pratique-pour-les-aidants/2023-02-24/
LOCATION:Virtuel\, Ontario\, Canada
ATTACH;FMTTYPE=image/jpeg:https://aidantsontario.ca/wp-content/uploads/2024/03/Screenshot-2023-01-27-110705-2.jpg
ORGANIZER;CN="Programme Soins Palliatifs Champlain":MAILTO:education@champlainpalliative.ca
END:VEVENT
BEGIN:VEVENT
DTSTART;TZID=America/Toronto:20230220T180000
DTEND;TZID=America/Toronto:20230220T200000
DTSTAMP:20260423T174543
CREATED:20230127T212900Z
LAST-MODIFIED:20230127T212900Z
UID:10001276-1676916000-1676923200@aidantsontario.ca
SUMMARY:FORMATION PRATIQUE POUR LES AIDANTS
DESCRIPTION:ATELIER VIRTUEL DE 5 SEMAINES\nCETTE FORMATION PRATIQUE RENDRA VOTRE EXPÉRIENCE D’AIDANT PLUS SÉCURITAIRE ET MOINSSTRESSANTE POUR VOUS ET POUR LA PERSONNEQUE VOUS AIDEZ \nModule 1: Votre rôle d’aidant\n(navigation\, planification préalable des soins) \nModule 2: Levages et transferts\n(mécaniques corporelles\, techniques de levage) \nModule 3: Les soins d’hygiène personnelle\n(l’hygiène personnelle\, la deuil\, la dignité\, etc.) \nModule 4: Les soins en phase de fin de vie\n(quels sont les signes de fin de vie?) \nModule 5: Communication et soins de soi-même \n*Cette formation est offerte aux proches aidants non rémunérés qui s’occupent d’une personne atteinte d’une maladie chronique. \n  \nSi vous désirez participer\, veuillez remplir ce formulaire:
URL:https://aidantsontario.ca/event/formation-pratique-pour-les-aidants/2023-02-20/
LOCATION:Virtuel\, Ontario\, Canada
ATTACH;FMTTYPE=image/jpeg:https://aidantsontario.ca/wp-content/uploads/2024/03/Screenshot-2023-01-27-110705-2.jpg
ORGANIZER;CN="Programme Soins Palliatifs Champlain":MAILTO:education@champlainpalliative.ca
END:VEVENT
BEGIN:VEVENT
DTSTART;TZID=America/Toronto:20230217T180000
DTEND;TZID=America/Toronto:20230217T200000
DTSTAMP:20260423T174543
CREATED:20230127T212900Z
LAST-MODIFIED:20230127T212900Z
UID:10001275-1676656800-1676664000@aidantsontario.ca
SUMMARY:FORMATION PRATIQUE POUR LES AIDANTS
DESCRIPTION:ATELIER VIRTUEL DE 5 SEMAINES\nCETTE FORMATION PRATIQUE RENDRA VOTRE EXPÉRIENCE D’AIDANT PLUS SÉCURITAIRE ET MOINSSTRESSANTE POUR VOUS ET POUR LA PERSONNEQUE VOUS AIDEZ \nModule 1: Votre rôle d’aidant\n(navigation\, planification préalable des soins) \nModule 2: Levages et transferts\n(mécaniques corporelles\, techniques de levage) \nModule 3: Les soins d’hygiène personnelle\n(l’hygiène personnelle\, la deuil\, la dignité\, etc.) \nModule 4: Les soins en phase de fin de vie\n(quels sont les signes de fin de vie?) \nModule 5: Communication et soins de soi-même \n*Cette formation est offerte aux proches aidants non rémunérés qui s’occupent d’une personne atteinte d’une maladie chronique. \n  \nSi vous désirez participer\, veuillez remplir ce formulaire:
URL:https://aidantsontario.ca/event/formation-pratique-pour-les-aidants/2023-02-17/
LOCATION:Virtuel\, Ontario\, Canada
ATTACH;FMTTYPE=image/jpeg:https://aidantsontario.ca/wp-content/uploads/2024/03/Screenshot-2023-01-27-110705-2.jpg
ORGANIZER;CN="Programme Soins Palliatifs Champlain":MAILTO:education@champlainpalliative.ca
END:VEVENT
BEGIN:VEVENT
DTSTART;TZID=America/Toronto:20230213T180000
DTEND;TZID=America/Toronto:20230213T200000
DTSTAMP:20260423T174543
CREATED:20230127T212900Z
LAST-MODIFIED:20230127T212900Z
UID:10001274-1676311200-1676318400@aidantsontario.ca
SUMMARY:FORMATION PRATIQUE POUR LES AIDANTS
DESCRIPTION:ATELIER VIRTUEL DE 5 SEMAINES\nCETTE FORMATION PRATIQUE RENDRA VOTRE EXPÉRIENCE D’AIDANT PLUS SÉCURITAIRE ET MOINSSTRESSANTE POUR VOUS ET POUR LA PERSONNEQUE VOUS AIDEZ \nModule 1: Votre rôle d’aidant\n(navigation\, planification préalable des soins) \nModule 2: Levages et transferts\n(mécaniques corporelles\, techniques de levage) \nModule 3: Les soins d’hygiène personnelle\n(l’hygiène personnelle\, la deuil\, la dignité\, etc.) \nModule 4: Les soins en phase de fin de vie\n(quels sont les signes de fin de vie?) \nModule 5: Communication et soins de soi-même \n*Cette formation est offerte aux proches aidants non rémunérés qui s’occupent d’une personne atteinte d’une maladie chronique. \n  \nSi vous désirez participer\, veuillez remplir ce formulaire:
URL:https://aidantsontario.ca/event/formation-pratique-pour-les-aidants/2023-02-13/
LOCATION:Virtuel\, Ontario\, Canada
ATTACH;FMTTYPE=image/jpeg:https://aidantsontario.ca/wp-content/uploads/2024/03/Screenshot-2023-01-27-110705-2.jpg
ORGANIZER;CN="Programme Soins Palliatifs Champlain":MAILTO:education@champlainpalliative.ca
END:VEVENT
END:VCALENDAR