BEGIN:VCALENDAR
VERSION:2.0
PRODID:-//L&#039;Organisme de soutien aux aidants naturels de l&#039;Ontario - ECPv6.15.20//NONSGML v1.0//EN
CALSCALE:GREGORIAN
METHOD:PUBLISH
X-ORIGINAL-URL:https://aidantsontario.ca
X-WR-CALDESC:Évènements pour L&#039;Organisme de soutien aux aidants naturels de l&#039;Ontario
REFRESH-INTERVAL;VALUE=DURATION:PT1H
X-Robots-Tag:noindex
X-PUBLISHED-TTL:PT1H
BEGIN:VTIMEZONE
TZID:America/Toronto
BEGIN:DAYLIGHT
TZOFFSETFROM:-0500
TZOFFSETTO:-0400
TZNAME:EDT
DTSTART:20200308T070000
END:DAYLIGHT
BEGIN:STANDARD
TZOFFSETFROM:-0400
TZOFFSETTO:-0500
TZNAME:EST
DTSTART:20201101T060000
END:STANDARD
BEGIN:DAYLIGHT
TZOFFSETFROM:-0500
TZOFFSETTO:-0400
TZNAME:EDT
DTSTART:20210314T070000
END:DAYLIGHT
BEGIN:STANDARD
TZOFFSETFROM:-0400
TZOFFSETTO:-0500
TZNAME:EST
DTSTART:20211107T060000
END:STANDARD
BEGIN:DAYLIGHT
TZOFFSETFROM:-0500
TZOFFSETTO:-0400
TZNAME:EDT
DTSTART:20220313T070000
END:DAYLIGHT
BEGIN:STANDARD
TZOFFSETFROM:-0400
TZOFFSETTO:-0500
TZNAME:EST
DTSTART:20221106T060000
END:STANDARD
END:VTIMEZONE
BEGIN:VEVENT
DTSTART;TZID=America/Toronto:20211126T130000
DTEND;TZID=America/Toronto:20211126T150000
DTSTAMP:20260424T080523
CREATED:20211124T005451Z
LAST-MODIFIED:20211124T005451Z
UID:10001253-1637931600-1637938800@aidantsontario.ca
SUMMARY:Atelier sur la prévention des chutes par Accès Franco-Santé
DESCRIPTION:Novembre est le mois de la prévention des chutes! \nLes chutes concernent tout le monde. Nous avons tous un rôle à jouer pour les prévenir. Dans cet atelier\, apprenez davantage sur les mesures à adopter pour la prévention des chutes. \nVendredi 26 novembre | sur Zoom | 13 h à 15 h \nInscriptions:
URL:https://aidantsontario.ca/event/atelier-sur-la-prevention-des-chutes-par-acces-franco-sante/
LOCATION:Online
END:VEVENT
END:VCALENDAR