BEGIN:VCALENDAR
VERSION:2.0
PRODID:-//L&#039;Organisme de soutien aux aidants naturels de l&#039;Ontario - ECPv6.15.20//NONSGML v1.0//EN
CALSCALE:GREGORIAN
METHOD:PUBLISH
X-WR-CALNAME:L&#039;Organisme de soutien aux aidants naturels de l&#039;Ontario
X-ORIGINAL-URL:https://aidantsontario.ca
X-WR-CALDESC:Évènements pour L&#039;Organisme de soutien aux aidants naturels de l&#039;Ontario
REFRESH-INTERVAL;VALUE=DURATION:PT1H
X-Robots-Tag:noindex
X-PUBLISHED-TTL:PT1H
BEGIN:VTIMEZONE
TZID:America/Toronto
BEGIN:DAYLIGHT
TZOFFSETFROM:-0500
TZOFFSETTO:-0400
TZNAME:EDT
DTSTART:20220313T070000
END:DAYLIGHT
BEGIN:STANDARD
TZOFFSETFROM:-0400
TZOFFSETTO:-0500
TZNAME:EST
DTSTART:20221106T060000
END:STANDARD
BEGIN:DAYLIGHT
TZOFFSETFROM:-0500
TZOFFSETTO:-0400
TZNAME:EDT
DTSTART:20230312T070000
END:DAYLIGHT
BEGIN:STANDARD
TZOFFSETFROM:-0400
TZOFFSETTO:-0500
TZNAME:EST
DTSTART:20231105T060000
END:STANDARD
BEGIN:DAYLIGHT
TZOFFSETFROM:-0500
TZOFFSETTO:-0400
TZNAME:EDT
DTSTART:20240310T070000
END:DAYLIGHT
BEGIN:STANDARD
TZOFFSETFROM:-0400
TZOFFSETTO:-0500
TZNAME:EST
DTSTART:20241103T060000
END:STANDARD
END:VTIMEZONE
BEGIN:VEVENT
DTSTART;TZID=America/Toronto:20231114T180000
DTEND;TZID=America/Toronto:20231114T190000
DTSTAMP:20260423T175540
CREATED:20230711T222622Z
LAST-MODIFIED:20230711T222622Z
UID:10001504-1699984800-1699988400@aidantsontario.ca
SUMMARY:Webinaire - Les aidants naturels au travail: un exercice d’équilibre
DESCRIPTION:Quatre millions d’Ontariens fournissent des soins aux membres de leur famille et à leurs amis confrontés à des problèmes de santé. Nous savons que beaucoup d’entre vous prennent également soin d’un membre de la famille ou d’un ami en dehors du travail\, ce qui peut parfois entraîner des difficultés alors que vous vous efforcez de répondre aux exigences des deux engagements. \nDans cette présentation\, les personnes aidantes naturelles découvrent : \n\nDavantage sur l’éxprience d’aidance naturelle.\nLes meilleures stratégies pour concilier travail et prestations de soins.\nComment accéder à des ressources axées sur leurs besoins.\n\nInscrivez-vous: https://centrefranco-org.zoom.us/meeting/register/tZAvc-ivrTojGNOBs_RuLv2R6UXBwhb2D_gb#/registration
URL:https://aidantsontario.ca/event/webinaire-les-aidants-naturels-au-travail-un-exercice-dequilibre/
LOCATION:Virtuel\, Ontario\, Canada
ATTACH;FMTTYPE=image/jpeg:https://aidantsontario.ca/wp-content/uploads/2024/03/Aidants-naturels-au-travail-2.jpg
ORGANIZER;CN="Centre Francophone du Grand Toronto":MAILTO:infos@centrefranco.org
END:VEVENT
BEGIN:VEVENT
DTSTART;TZID=America/Toronto:20231010T180000
DTEND;TZID=America/Toronto:20231010T190000
DTSTAMP:20260423T175540
CREATED:20230711T221706Z
LAST-MODIFIED:20230711T221706Z
UID:10001503-1696960800-1696964400@aidantsontario.ca
SUMMARY:Webinaire - Stress et épuisement chez les personnes aidantes naturelles
DESCRIPTION:Il peut y avoir de nombreux avantage à être une personne aidante naturelle. Les gens déclarent ressentir un sentiment d’épanouissement et apprécient le temps qu’elles passent avec leur proche. Cependant\, deux tiers des personnes aidantes naturelles déclarent se sentir stressées ou épuisées. \nDans cette présentation\, les personnes aidantes naturelles découvrent : \n\nL’expérience de l’aidance naturelle à travers l’Ontario.\nLa différence entre le stress et l’épuisement ainsi que les signes et symptômes les plus courants de chacun.\nDes stratégies pour identifier quand ils se sentent stressés ou épuisés et des ressources pour les soutenir dans leur rôle de personne aidante naturelle.\n\nInscrivez-vous: https://centrefranco-org.zoom.us/meeting/register/tZUodO-prjMrGtwQ6Ge7RonEux53CROD-xkB#/registration
URL:https://aidantsontario.ca/event/webinaire-stress-et-epuisement-chez-les-personnes-aidantes-naturelles/
LOCATION:Virtuel\, Ontario\, Canada
ATTACH;FMTTYPE=image/jpeg:https://aidantsontario.ca/wp-content/uploads/2024/03/Stress-et-epuisement-1-2.jpg
ORGANIZER;CN="Centre Francophone du Grand Toronto":MAILTO:infos@centrefranco.org
END:VEVENT
END:VCALENDAR