BEGIN:VCALENDAR
VERSION:2.0
PRODID:-//L&#039;Organisme de soutien aux aidants naturels de l&#039;Ontario - ECPv6.15.20//NONSGML v1.0//EN
CALSCALE:GREGORIAN
METHOD:PUBLISH
X-ORIGINAL-URL:https://aidantsontario.ca
X-WR-CALDESC:Évènements pour L&#039;Organisme de soutien aux aidants naturels de l&#039;Ontario
REFRESH-INTERVAL;VALUE=DURATION:PT1H
X-Robots-Tag:noindex
X-PUBLISHED-TTL:PT1H
BEGIN:VTIMEZONE
TZID:America/Toronto
BEGIN:DAYLIGHT
TZOFFSETFROM:-0500
TZOFFSETTO:-0400
TZNAME:EDT
DTSTART:20220313T070000
END:DAYLIGHT
BEGIN:STANDARD
TZOFFSETFROM:-0400
TZOFFSETTO:-0500
TZNAME:EST
DTSTART:20221106T060000
END:STANDARD
BEGIN:DAYLIGHT
TZOFFSETFROM:-0500
TZOFFSETTO:-0400
TZNAME:EDT
DTSTART:20230312T070000
END:DAYLIGHT
BEGIN:STANDARD
TZOFFSETFROM:-0400
TZOFFSETTO:-0500
TZNAME:EST
DTSTART:20231105T060000
END:STANDARD
BEGIN:DAYLIGHT
TZOFFSETFROM:-0500
TZOFFSETTO:-0400
TZNAME:EDT
DTSTART:20240310T070000
END:DAYLIGHT
BEGIN:STANDARD
TZOFFSETFROM:-0400
TZOFFSETTO:-0500
TZNAME:EST
DTSTART:20241103T060000
END:STANDARD
END:VTIMEZONE
BEGIN:VEVENT
DTSTART;TZID=America/Toronto:20231206T180000
DTEND;TZID=America/Toronto:20231206T190000
DTSTAMP:20260423T161356
CREATED:20230602T214937Z
LAST-MODIFIED:20230602T214937Z
UID:10001300-1701885600-1701889200@aidantsontario.ca
SUMMARY:Les aidants naturels au travail: un exercice d’équilibre  - pour les personnes aindante naturelle de gens atteint de cancer - en personne à Ottawa
DESCRIPTION:Présenté par l’Orgnanisme de soutien aux aidants naturels de l’Ontario – \nQuatre millions d’Ontariens fournissent des soins aux membres de leur famille et à leurs amis confrontés à des problèmes de santé. Nous savons que beaucoup d’entre vous prennent également soin d’un membre de la famille ou d’un ami en dehors du travail\, ce qui peut parfois entraîner des difficultés alors que vous vous efforcez de répondre aux exigences des deux engagements. \nDans cette présentation\, les personnes aidantes naturelles découvrent : \n\nDavantage sur l’éxprience d’aidance naturelle.\nLes meilleures stratégies pour concilier travail et prestations de soins.\nComment accéder à des ressources axées sur leurs besoins.
URL:https://aidantsontario.ca/event/les-aidants-naturels-au-travail-un-exercice-dequilibre-pour-les-personnes-aindante-naturelle-de-gens-atteint-de-cancer-en-personne-a-ottawa/
LOCATION:Carrefour communautaire de lutte contre le cancer\, 1500 Alta Vista Dr\,\, Ottawa\, Ontario\, K1G 3Y9
ORGANIZER;CN="Fondation du cancer de la r%C3%A9gion d'Ottawa":MAILTO:info@ottawacancer.ca
END:VEVENT
BEGIN:VEVENT
DTSTART;TZID=America/Toronto:20231005T180000
DTEND;TZID=America/Toronto:20231005T193000
DTSTAMP:20260423T161356
CREATED:20230602T214907Z
LAST-MODIFIED:20230602T214907Z
UID:10001299-1696528800-1696534200@aidantsontario.ca
SUMMARY:Le Stress et l'épuisement chez les personnes aidantes naturelles d'une personne atteint de cancer - en personne à Ottawa
DESCRIPTION:Présenté par l’Organisme de soutien aux aidants naturels de l’Ontario – \nIl peut y avoir de nombreux avantage à être une personne aidante naturelle. Les gens déclarent ressentir un sentiment d’épanouissement et apprécient le temps qu’elles passent avec leur proche. Cependant\, deux tiers des personnes aidantes naturelles déclarent se sentir stressées ou épuisées. \nDans cette présentation\, les personnes aidantes naturelles découvrent : \n\nL’expérience de l’aidance naturelle à travers l’Ontario.\nLa différence entre le stress et l’épuisement ainsi que les signes et symptômes les plus courants de chacun.\nDes stratégies pour identifier quand ils se sentent stressés ou épuisés et des ressources pour les soutenir dans leur rôle de personne aidante naturelle.
URL:https://aidantsontario.ca/event/le-stress-et-lepuisement-chez-les-personnes-aidantes-naturelles-dune-personne-atteint-de-cancer-en-personne-a-ottawa/
LOCATION:Carrefour communautaire de lutte contre le cancer\, 1500 Alta Vista Dr\,\, Ottawa\, Ontario\, K1G 3Y9
ORGANIZER;CN="Fondation du cancer de la r%C3%A9gion d'Ottawa":MAILTO:info@ottawacancer.ca
END:VEVENT
END:VCALENDAR