BEGIN:VCALENDAR
VERSION:2.0
PRODID:-//L&#039;Organisme de soutien aux aidants naturels de l&#039;Ontario - ECPv6.15.20//NONSGML v1.0//EN
CALSCALE:GREGORIAN
METHOD:PUBLISH
X-WR-CALNAME:L&#039;Organisme de soutien aux aidants naturels de l&#039;Ontario
X-ORIGINAL-URL:https://aidantsontario.ca
X-WR-CALDESC:Évènements pour L&#039;Organisme de soutien aux aidants naturels de l&#039;Ontario
REFRESH-INTERVAL;VALUE=DURATION:PT1H
X-Robots-Tag:noindex
X-PUBLISHED-TTL:PT1H
BEGIN:VTIMEZONE
TZID:America/Toronto
BEGIN:DAYLIGHT
TZOFFSETFROM:-0500
TZOFFSETTO:-0400
TZNAME:EDT
DTSTART:20220313T070000
END:DAYLIGHT
BEGIN:STANDARD
TZOFFSETFROM:-0400
TZOFFSETTO:-0500
TZNAME:EST
DTSTART:20221106T060000
END:STANDARD
BEGIN:DAYLIGHT
TZOFFSETFROM:-0500
TZOFFSETTO:-0400
TZNAME:EDT
DTSTART:20230312T070000
END:DAYLIGHT
BEGIN:STANDARD
TZOFFSETFROM:-0400
TZOFFSETTO:-0500
TZNAME:EST
DTSTART:20231105T060000
END:STANDARD
BEGIN:DAYLIGHT
TZOFFSETFROM:-0500
TZOFFSETTO:-0400
TZNAME:EDT
DTSTART:20240310T070000
END:DAYLIGHT
BEGIN:STANDARD
TZOFFSETFROM:-0400
TZOFFSETTO:-0500
TZNAME:EST
DTSTART:20241103T060000
END:STANDARD
END:VTIMEZONE
BEGIN:VEVENT
DTSTART;TZID=America/Toronto:20230530T093000
DTEND;TZID=America/Toronto:20230530T120000
DTSTAMP:20260423T205305
CREATED:20230426T021326Z
LAST-MODIFIED:20230426T021326Z
UID:10001294-1685439000-1685448000@aidantsontario.ca
SUMMARY:Formation pratique en soins palliatifs pour les proches aidants
DESCRIPTION:Cette formation vous aidera à accroître vos compétences et vos connaissances en tant que proches aidants. \nAtelier 1 – Mardi 2 mai\nRôle de proche aidant\nLe système de santé ontarien\nPlanification préalable des soins \nAtelier 2 – Mardi 9 mai\nAnatomie 101\nLevages et transferts\n*Présentateur : Physiothérapeute \nAtelier 3 – Mardi 16 mai\nHygiène personnelle\nDouleur du deuil\nL’ hygiène domestique\n*Présentateur : Infirmière \nAtelier 4 – Mardi 23 maiSoins en fin de vie\nGestion des médicaments\n*Présentateur : Infirmière \nAtelier 5 – Mardi 30 mai  \nCommunication\nSoin de soi-même \nInscrivez-vous\, places limitées\njparent@mri.ca\n613-241-1266 poste. 439 \n 
URL:https://aidantsontario.ca/event/formation-pratique-en-soins-palliatifs-pour-les-proches-aidants/2023-05-30/
LOCATION:Virtuel\, Ontario\, Canada
ATTACH;FMTTYPE=image/jpeg:https://aidantsontario.ca/wp-content/uploads/2024/03/Formation-pratique-en-soins-palliatigs-pour-les-proches-aidants-1-2.jpg
ORGANIZER;CN="Montfort Renaissance - Centre de Services Gigues":MAILTO:info@mri.ca
END:VEVENT
BEGIN:VEVENT
DTSTART;TZID=America/Toronto:20230523T093000
DTEND;TZID=America/Toronto:20230523T120000
DTSTAMP:20260423T205305
CREATED:20230426T021326Z
LAST-MODIFIED:20230426T021326Z
UID:10001293-1684834200-1684843200@aidantsontario.ca
SUMMARY:Formation pratique en soins palliatifs pour les proches aidants
DESCRIPTION:Cette formation vous aidera à accroître vos compétences et vos connaissances en tant que proches aidants. \nAtelier 1 – Mardi 2 mai\nRôle de proche aidant\nLe système de santé ontarien\nPlanification préalable des soins \nAtelier 2 – Mardi 9 mai\nAnatomie 101\nLevages et transferts\n*Présentateur : Physiothérapeute \nAtelier 3 – Mardi 16 mai\nHygiène personnelle\nDouleur du deuil\nL’ hygiène domestique\n*Présentateur : Infirmière \nAtelier 4 – Mardi 23 maiSoins en fin de vie\nGestion des médicaments\n*Présentateur : Infirmière \nAtelier 5 – Mardi 30 mai  \nCommunication\nSoin de soi-même \nInscrivez-vous\, places limitées\njparent@mri.ca\n613-241-1266 poste. 439 \n 
URL:https://aidantsontario.ca/event/formation-pratique-en-soins-palliatifs-pour-les-proches-aidants/2023-05-23/
LOCATION:Virtuel\, Ontario\, Canada
ATTACH;FMTTYPE=image/jpeg:https://aidantsontario.ca/wp-content/uploads/2024/03/Formation-pratique-en-soins-palliatigs-pour-les-proches-aidants-1-2.jpg
ORGANIZER;CN="Montfort Renaissance - Centre de Services Gigues":MAILTO:info@mri.ca
END:VEVENT
BEGIN:VEVENT
DTSTART;TZID=America/Toronto:20230516T093000
DTEND;TZID=America/Toronto:20230516T120000
DTSTAMP:20260423T205305
CREATED:20230426T021326Z
LAST-MODIFIED:20230426T021326Z
UID:10001292-1684229400-1684238400@aidantsontario.ca
SUMMARY:Formation pratique en soins palliatifs pour les proches aidants
DESCRIPTION:Cette formation vous aidera à accroître vos compétences et vos connaissances en tant que proches aidants. \nAtelier 1 – Mardi 2 mai\nRôle de proche aidant\nLe système de santé ontarien\nPlanification préalable des soins \nAtelier 2 – Mardi 9 mai\nAnatomie 101\nLevages et transferts\n*Présentateur : Physiothérapeute \nAtelier 3 – Mardi 16 mai\nHygiène personnelle\nDouleur du deuil\nL’ hygiène domestique\n*Présentateur : Infirmière \nAtelier 4 – Mardi 23 maiSoins en fin de vie\nGestion des médicaments\n*Présentateur : Infirmière \nAtelier 5 – Mardi 30 mai  \nCommunication\nSoin de soi-même \nInscrivez-vous\, places limitées\njparent@mri.ca\n613-241-1266 poste. 439 \n 
URL:https://aidantsontario.ca/event/formation-pratique-en-soins-palliatifs-pour-les-proches-aidants/2023-05-16/
LOCATION:Virtuel\, Ontario\, Canada
ATTACH;FMTTYPE=image/jpeg:https://aidantsontario.ca/wp-content/uploads/2024/03/Formation-pratique-en-soins-palliatigs-pour-les-proches-aidants-1-2.jpg
ORGANIZER;CN="Montfort Renaissance - Centre de Services Gigues":MAILTO:info@mri.ca
END:VEVENT
BEGIN:VEVENT
DTSTART;TZID=America/Toronto:20230509T093000
DTEND;TZID=America/Toronto:20230509T120000
DTSTAMP:20260423T205305
CREATED:20230426T021326Z
LAST-MODIFIED:20230426T021326Z
UID:10001291-1683624600-1683633600@aidantsontario.ca
SUMMARY:Formation pratique en soins palliatifs pour les proches aidants
DESCRIPTION:Cette formation vous aidera à accroître vos compétences et vos connaissances en tant que proches aidants. \nAtelier 1 – Mardi 2 mai\nRôle de proche aidant\nLe système de santé ontarien\nPlanification préalable des soins \nAtelier 2 – Mardi 9 mai\nAnatomie 101\nLevages et transferts\n*Présentateur : Physiothérapeute \nAtelier 3 – Mardi 16 mai\nHygiène personnelle\nDouleur du deuil\nL’ hygiène domestique\n*Présentateur : Infirmière \nAtelier 4 – Mardi 23 maiSoins en fin de vie\nGestion des médicaments\n*Présentateur : Infirmière \nAtelier 5 – Mardi 30 mai  \nCommunication\nSoin de soi-même \nInscrivez-vous\, places limitées\njparent@mri.ca\n613-241-1266 poste. 439 \n 
URL:https://aidantsontario.ca/event/formation-pratique-en-soins-palliatifs-pour-les-proches-aidants/2023-05-09/
LOCATION:Virtuel\, Ontario\, Canada
ATTACH;FMTTYPE=image/jpeg:https://aidantsontario.ca/wp-content/uploads/2024/03/Formation-pratique-en-soins-palliatigs-pour-les-proches-aidants-1-2.jpg
ORGANIZER;CN="Montfort Renaissance - Centre de Services Gigues":MAILTO:info@mri.ca
END:VEVENT
BEGIN:VEVENT
DTSTART;TZID=America/Toronto:20230502T093000
DTEND;TZID=America/Toronto:20230502T120000
DTSTAMP:20260423T205305
CREATED:20230426T021326Z
LAST-MODIFIED:20230426T021326Z
UID:10001290-1683019800-1683028800@aidantsontario.ca
SUMMARY:Formation pratique en soins palliatifs pour les proches aidants
DESCRIPTION:Cette formation vous aidera à accroître vos compétences et vos connaissances en tant que proches aidants. \nAtelier 1 – Mardi 2 mai\nRôle de proche aidant\nLe système de santé ontarien\nPlanification préalable des soins \nAtelier 2 – Mardi 9 mai\nAnatomie 101\nLevages et transferts\n*Présentateur : Physiothérapeute \nAtelier 3 – Mardi 16 mai\nHygiène personnelle\nDouleur du deuil\nL’ hygiène domestique\n*Présentateur : Infirmière \nAtelier 4 – Mardi 23 maiSoins en fin de vie\nGestion des médicaments\n*Présentateur : Infirmière \nAtelier 5 – Mardi 30 mai  \nCommunication\nSoin de soi-même \nInscrivez-vous\, places limitées\njparent@mri.ca\n613-241-1266 poste. 439 \n 
URL:https://aidantsontario.ca/event/formation-pratique-en-soins-palliatifs-pour-les-proches-aidants/2023-05-02/
LOCATION:Virtuel\, Ontario\, Canada
ATTACH;FMTTYPE=image/jpeg:https://aidantsontario.ca/wp-content/uploads/2024/03/Formation-pratique-en-soins-palliatigs-pour-les-proches-aidants-1-2.jpg
ORGANIZER;CN="Montfort Renaissance - Centre de Services Gigues":MAILTO:info@mri.ca
END:VEVENT
END:VCALENDAR